BEGIN:VCALENDAR
VERSION:2.0
CALSCALE:GREGORIAN
PRODID:-//Diputació de Barcelona//DibaCMS//EN
BEGIN:VEVENT
UID:14442
DTSTAMP:20260424T160044
DTSTART:20260430T193000
DTEND:20260430T213000
SUMMARY:PICA-PICA + BALL - Llar del Pensionista Lillet
LOCATION:
METHOD:PUBLISH
X-WR-CALNAME:lillet@poblalillet.cat
X-WR-TIMEZONE:Europe/Madrid
DESCRIPTION:PICA-PICA Berenar / Sopa
BALL amb equip de música

URI:https://www.poblalillet.cat/actualitat/agenda/pica-pica--ball-llar-del-pensionista-lillet.html
CLASS:PUBLIC
END:VEVENT
END:VCALENDAR
