BEGIN:VCALENDAR
VERSION:2.0
CALSCALE:GREGORIAN
PRODID:-//Diputació de Barcelona//DibaCMS//EN
BEGIN:VEVENT
UID:14441
DTSTAMP:20260421T135743
DTSTART:20260423T093000
DTEND:20260423T120000
SUMMARY:V MARATÓ DE LECTURA PER LA LLENGUA
LOCATION:
METHOD:PUBLISH
X-WR-CALNAME:lillet@poblalillet.cat
X-WR-TIMEZONE:Europe/Madrid
DESCRIPTION:La Pobla de Lillet - Sant Jordi 2026

Plaça de l'Ajuntament

Matí: de 2/4 de 10 a les 12 h.

URI:https://www.poblalillet.cat/actualitat/agenda/v-marato-de-lectura-per-la-llengua.html
CLASS:PUBLIC
END:VEVENT
END:VCALENDAR
