BEGIN:VCALENDAR
VERSION:2.0
CALSCALE:GREGORIAN
PRODID:-//Diputació de Barcelona//DibaCMS//EN
BEGIN:VEVENT
UID:14436
DTSTAMP:20260421T121538
DTSTART:20260426T120000
DTEND:20260426T140000
SUMMARY:Truitada de Sant Marc al Santuari de Falgars - 2026
LOCATION:
METHOD:PUBLISH
X-WR-CALNAME:lillet@poblalillet.cat
X-WR-TIMEZONE:Europe/Madrid
DESCRIPTION:Vot de poble!
A les 12 del migdia
MISSA SOLEMNE
seguidament benedicció del terme

a continuació REPARTIMENT DE TRUITES

URI:https://www.poblalillet.cat/actualitat/agenda/truitada-de-sant-marc-al-santuari-de-falgars-2026.html
CLASS:PUBLIC
END:VEVENT
END:VCALENDAR
