BEGIN:VCALENDAR
VERSION:2.0
CALSCALE:GREGORIAN
PRODID:-//Diputació de Barcelona//DibaCMS//EN
BEGIN:VEVENT
UID:14314
DTSTAMP:20260421T144031
DTSTART:20260101T010000
DTEND:20260101T060000
SUMMARY:ENTRADA ANY NOU 2026 - Festa de Cap d'Any
LOCATION:
METHOD:PUBLISH
X-WR-CALNAME:lillet@poblalillet.cat
X-WR-TIMEZONE:Europe/Madrid
DESCRIPTION:Música per a tothom a partir de la 1 de la matinada

amb DJ RUBÉN COUCEIRO

URI:https://www.poblalillet.cat/actualitat/agenda/entrada-any-nou-2026-festa-de-cap-dany.html
CLASS:PUBLIC
END:VEVENT
END:VCALENDAR
