BEGIN:VCALENDAR
VERSION:2.0
CALSCALE:GREGORIAN
PRODID:-//Diputació de Barcelona//DibaCMS//EN
BEGIN:VEVENT
UID:14287
DTSTAMP:20260421T144554
DTSTART:20251210T180000
DTEND:20251210T190000
SUMMARY:XERRADA: Detectem-ho, arreglem-ho
LOCATION:
METHOD:PUBLISH
X-WR-CALNAME:lillet@poblalillet.cat
X-WR-TIMEZONE:Europe/Madrid
DESCRIPTION:A càrrec de la Fundació La Marató

URI:https://www.poblalillet.cat/actualitat/agenda/xerrada-detectem-ho-arreglem-ho.html
CLASS:PUBLIC
END:VEVENT
END:VCALENDAR
