BEGIN:VCALENDAR
VERSION:2.0
CALSCALE:GREGORIAN
PRODID:-//Diputació de Barcelona//DibaCMS//EN
BEGIN:VEVENT
UID:14224
DTSTAMP:20260423T221146
DTSTART:20251004T000000
DTEND:20251006T000000
SUMMARY:Festa Major del Roser 2025
LOCATION:
METHOD:PUBLISH
X-WR-CALNAME:lillet@poblalillet.cat
X-WR-TIMEZONE:Europe/Madrid
DESCRIPTION:Dies 4, 5 i 6 d'octubre de 2025



URI:https://www.poblalillet.cat/actualitat/agenda/festa-major-del-roser-2025.html
CLASS:PUBLIC
END:VEVENT
END:VCALENDAR
