BEGIN:VCALENDAR
VERSION:2.0
CALSCALE:GREGORIAN
PRODID:-//Diputació de Barcelona//DibaCMS//EN
BEGIN:VEVENT
UID:14038
DTSTAMP:20260420T112114
DTSTART:20250319T180000
DTEND:20250319T200000
SUMMARY:Xerrada: Educació i comunicació: la importància de la comunicació en l'educació dels infants (de 0 a 6 anys)
LOCATION:
METHOD:PUBLISH
X-WR-CALNAME:lillet@poblalillet.cat
X-WR-TIMEZONE:Europe/Madrid
DESCRIPTION:Xerrada On-line

URI:https://www.poblalillet.cat/actualitat/agenda/xerrada-educacio-i-comunicacio-la-importancia-de-la-comunicacio-en-leducacio-dels-infants-de-0-a-6-anys.html
CLASS:PUBLIC
END:VEVENT
END:VCALENDAR
