BEGIN:VCALENDAR
VERSION:2.0
CALSCALE:GREGORIAN
PRODID:-//Diputació de Barcelona//DibaCMS//EN
BEGIN:VEVENT
UID:13992
DTSTAMP:20260421T103446
DTSTART:20250112T180000
DTEND:20250112T210000
SUMMARY:Saló La Flor: Animat ball amb el Duo Caramelo
LOCATION:
METHOD:PUBLISH
X-WR-CALNAME:lillet@poblalillet.cat
X-WR-TIMEZONE:Europe/Madrid
DESCRIPTION:El DUO CARAMELO ens farà gaudir amb les seves cançons.

URI:https://www.poblalillet.cat/actualitat/agenda/salo-la-flor-animat-ball-amb-el-duo-caramelo.html
CLASS:PUBLIC
END:VEVENT
END:VCALENDAR
