BEGIN:VCALENDAR
VERSION:2.0
CALSCALE:GREGORIAN
PRODID:-//Diputació de Barcelona//DibaCMS//EN
BEGIN:VEVENT
UID:13965
DTSTAMP:20260421T105220
DTSTART:20241124T180000
DTEND:20241124T210000
SUMMARY:Saló La Flor: Ball amb els SOLISTES - 2024
LOCATION:
METHOD:PUBLISH
X-WR-CALNAME:lillet@poblalillet.cat
X-WR-TIMEZONE:Europe/Madrid
DESCRIPTION:Ball al Saló La Flor, a les 18h.

URI:https://www.poblalillet.cat/actualitat/agenda/salo-la-flor-ball-amb-els-solistes-2024.html
CLASS:PUBLIC
END:VEVENT
END:VCALENDAR
