BEGIN:VCALENDAR
VERSION:2.0
CALSCALE:GREGORIAN
PRODID:-//Diputació de Barcelona//DibaCMS//EN
BEGIN:VEVENT
UID:13810
DTSTAMP:20260421T062527
DTSTART:20240712T201500
DTEND:20240712T211500
SUMMARY:ZUMBA - 12Juliol24
LOCATION:
METHOD:PUBLISH
X-WR-CALNAME:lillet@poblalillet.cat
X-WR-TIMEZONE:Europe/Madrid
DESCRIPTION:Viu l'Estiu a l'Alt Berguedà - LA POBLA DE LILLET

URI:https://www.poblalillet.cat/actualitat/agenda/zumba-12juliol24.html
CLASS:PUBLIC
END:VEVENT
END:VCALENDAR
