BEGIN:VCALENDAR
VERSION:2.0
CALSCALE:GREGORIAN
PRODID:-//Diputació de Barcelona//DibaCMS//EN
BEGIN:VEVENT
UID:11911
DTSTAMP:20260421T024428
DTSTART:20150214T170000
DTEND:20150214T235900
SUMMARY:Carnaval 2015
LOCATION:
METHOD:PUBLISH
X-WR-CALNAME:lillet@poblalillet.cat
X-WR-TIMEZONE:Europe/Madrid
DESCRIPTION:
URI:https://www.poblalillet.cat/actualitat/agenda/carnaval.html
CLASS:PUBLIC
END:VEVENT
END:VCALENDAR
